BEGIN:VCALENDAR
VERSION:2.0
PRODID:-//Kuny - ECPv6.15.20//NONSGML v1.0//EN
CALSCALE:GREGORIAN
METHOD:PUBLISH
X-ORIGINAL-URL:https://kunymuzeum.hu
X-WR-CALDESC:Események Kuny
REFRESH-INTERVAL;VALUE=DURATION:PT1H
X-Robots-Tag:noindex
X-PUBLISHED-TTL:PT1H
BEGIN:VTIMEZONE
TZID:Europe/Budapest
BEGIN:DAYLIGHT
TZOFFSETFROM:+0100
TZOFFSETTO:+0200
TZNAME:CEST
DTSTART:20250330T010000
END:DAYLIGHT
BEGIN:STANDARD
TZOFFSETFROM:+0200
TZOFFSETTO:+0100
TZNAME:CET
DTSTART:20251026T010000
END:STANDARD
BEGIN:DAYLIGHT
TZOFFSETFROM:+0100
TZOFFSETTO:+0200
TZNAME:CEST
DTSTART:20260329T010000
END:DAYLIGHT
BEGIN:STANDARD
TZOFFSETFROM:+0200
TZOFFSETTO:+0100
TZNAME:CET
DTSTART:20261025T010000
END:STANDARD
BEGIN:DAYLIGHT
TZOFFSETFROM:+0100
TZOFFSETTO:+0200
TZNAME:CEST
DTSTART:20270328T010000
END:DAYLIGHT
BEGIN:STANDARD
TZOFFSETFROM:+0200
TZOFFSETTO:+0100
TZNAME:CET
DTSTART:20271031T010000
END:STANDARD
END:VTIMEZONE
BEGIN:VEVENT
DTSTART;TZID=Europe/Budapest:20260504T170000
DTEND;TZID=Europe/Budapest:20260504T190000
DTSTAMP:20260426T000156
CREATED:20260126T080226Z
LAST-MODIFIED:20260126T080226Z
UID:14101-1777914000-1777921200@kunymuzeum.hu
SUMMARY:Múzeumi Szabadegyetem
DESCRIPTION:Fejedelemjárás Tatán – Ferenc József császártól IV. Károly királyig (Stegmayer Máté)
URL:https://kunymuzeum.hu/esemeny/muzeumi-szabadegyetem-8/
LOCATION:Tatai vár\, Váralja u. 1-3.\, Tata\, Komárom-Esztergom vármegye\, 2890\, Magyarország
ATTACH;FMTTYPE=image/jpeg:https://kunymuzeum.hu/wp-content/uploads/2026/01/20261.-felev-2.jpg
END:VEVENT
BEGIN:VEVENT
DTSTART;TZID=Europe/Budapest:20260601T170000
DTEND;TZID=Europe/Budapest:20260601T170000
DTSTAMP:20260426T000156
CREATED:20260126T080338Z
LAST-MODIFIED:20260126T080338Z
UID:14103-1780333200-1780333200@kunymuzeum.hu
SUMMARY:Múzeumi Szabadegyetem
DESCRIPTION:Az idegenforgalom kiépülése – Tata a két világháború között (Stegmayer Máté)
URL:https://kunymuzeum.hu/esemeny/muzeumi-szabadegyetem-9/
LOCATION:Tatai vár\, Váralja u. 1-3.\, Tata\, Komárom-Esztergom vármegye\, 2890\, Magyarország
ATTACH;FMTTYPE=image/jpeg:https://kunymuzeum.hu/wp-content/uploads/2026/01/20261.-felev-2.jpg
END:VEVENT
END:VCALENDAR